BEGIN:VCALENDAR
VERSION:2.0
PRODID:-//www.okeenehpg.org//NONSGML kigkonsult.se iCalcreator 2.30.10//
CALSCALE:GREGORIAN
METHOD:PUBLISH
UID:46f9c37a-680a-40c3-acb4-4afeda516561
X-WR-CALDESC:
X-WR-RELCALID:bdcb0ee517dbfefe54c9d6491ee53de2
X-WR-TIMEZONE:America/Chicago
BEGIN:VTIMEZONE
TZID:America/Chicago
BEGIN:STANDARD
TZNAME:CST
DTSTART:20251102T020000
TZOFFSETFROM:-0500
TZOFFSETTO:-0600
RDATE:20261101T020000
RDATE:20271107T020000
END:STANDARD
BEGIN:DAYLIGHT
TZNAME:CDT
DTSTART:20260308T020000
TZOFFSETFROM:-0600
TZOFFSETTO:-0500
RDATE:20270314T020000
RDATE:20280312T020000
END:DAYLIGHT
END:VTIMEZONE
BEGIN:VEVENT
UID:d13aaa2a-1791-48df-a949-cb94fda49636
DTSTAMP:20260423T173116Z
DESCRIPTION:
DTSTART;TZID=America/Chicago:20260914T183000
DTEND;TZID=America/Chicago:20260914T203000
LOCATION:The Garage at The Corner in Okeene
SUMMARY:OHPG Board Meeting
END:VEVENT
END:VCALENDAR
