BEGIN:VCALENDAR
VERSION:2.0
PRODID:-//www.okeenehpg.org//NONSGML kigkonsult.se iCalcreator 2.30.10//
CALSCALE:GREGORIAN
METHOD:PUBLISH
UID:c1d2227c-4a67-47b2-b57a-a91ca3f627f7
X-WR-CALDESC:
X-WR-RELCALID:670e623e88cfcbac6c4196a01b1d1ecb
X-WR-TIMEZONE:America/Chicago
BEGIN:VTIMEZONE
TZID:America/Chicago
BEGIN:STANDARD
TZNAME:CST
DTSTART:20251102T020000
TZOFFSETFROM:-0500
TZOFFSETTO:-0600
RDATE:20261101T020000
RDATE:20271107T020000
END:STANDARD
BEGIN:DAYLIGHT
TZNAME:CDT
DTSTART:20260308T020000
TZOFFSETFROM:-0600
TZOFFSETTO:-0500
RDATE:20270314T020000
END:DAYLIGHT
END:VTIMEZONE
BEGIN:VEVENT
UID:34788a18-8f0e-46a3-9e0d-328f1f2b272b
DTSTAMP:20260423T124832Z
DESCRIPTION:
DTSTART;TZID=America/Chicago:20260620T050000
DTEND;TZID=America/Chicago:20260620T050001
LOCATION:
SUMMARY:Garage Rented
END:VEVENT
END:VCALENDAR
