BEGIN:VCALENDAR
VERSION:2.0
PRODID:-//www.okeenehpg.org//NONSGML kigkonsult.se iCalcreator 2.30.10//
CALSCALE:GREGORIAN
METHOD:PUBLISH
UID:b250a19a-c603-4ca6-8aad-1fb0d65e046b
X-WR-CALDESC:
X-WR-RELCALID:f9c1dc4082eab18fbd2e904ab339932b
X-WR-TIMEZONE:America/Chicago
BEGIN:VTIMEZONE
TZID:America/Chicago
BEGIN:STANDARD
TZNAME:CST
DTSTART:20251102T020000
TZOFFSETFROM:-0500
TZOFFSETTO:-0600
RDATE:20261101T020000
RDATE:20271107T020000
END:STANDARD
BEGIN:DAYLIGHT
TZNAME:CDT
DTSTART:20260308T020000
TZOFFSETFROM:-0600
TZOFFSETTO:-0500
RDATE:20270314T020000
END:DAYLIGHT
END:VTIMEZONE
BEGIN:VEVENT
UID:bca51bb6-fc97-471d-b393-6a40e8c03ed5
DTSTAMP:20260423T105303Z
DESCRIPTION:
DTSTART;TZID=America/Chicago:20260522T050000
DTEND;TZID=America/Chicago:20260522T050001
LOCATION:
SUMMARY:Garage Rented
END:VEVENT
END:VCALENDAR
