BEGIN:VCALENDAR
VERSION:2.0
PRODID:-//www.okeenehpg.org//NONSGML kigkonsult.se iCalcreator 2.30.10//
CALSCALE:GREGORIAN
METHOD:PUBLISH
UID:049fda67-c703-455a-9c57-63922e1207b1
X-WR-CALDESC:
X-WR-RELCALID:6c2f4c9fb6e00516cc63dff83255469b
X-WR-TIMEZONE:America/Chicago
BEGIN:VTIMEZONE
TZID:America/Chicago
BEGIN:STANDARD
TZNAME:CST
DTSTART:20251102T020000
TZOFFSETFROM:-0500
TZOFFSETTO:-0600
RDATE:20261101T020000
RDATE:20271107T020000
END:STANDARD
BEGIN:DAYLIGHT
TZNAME:CDT
DTSTART:20260308T020000
TZOFFSETFROM:-0600
TZOFFSETTO:-0500
RDATE:20270314T020000
END:DAYLIGHT
END:VTIMEZONE
BEGIN:VEVENT
UID:281f774a-16f8-472b-a135-b4ce3c8e6f1e
DTSTAMP:20260423T110857Z
DESCRIPTION:
DTSTART;TZID=America/Chicago:20260509T050000
DTEND;TZID=America/Chicago:20260509T050001
LOCATION:
SUMMARY:Garage Rented
END:VEVENT
END:VCALENDAR
