BEGIN:VCALENDAR
VERSION:2.0
PRODID:-//www.okeenehpg.org//NONSGML kigkonsult.se iCalcreator 2.30.10//
CALSCALE:GREGORIAN
METHOD:PUBLISH
UID:ea076918-ded7-463a-9563-6f5c0cef75a5
X-WR-CALDESC:
X-WR-RELCALID:177b135a8ff05f0e072841a9e3dfbac4
X-WR-TIMEZONE:America/Chicago
BEGIN:VTIMEZONE
TZID:America/Chicago
BEGIN:STANDARD
TZNAME:CST
DTSTART:20251102T020000
TZOFFSETFROM:-0500
TZOFFSETTO:-0600
RDATE:20261101T020000
END:STANDARD
BEGIN:DAYLIGHT
TZNAME:CDT
DTSTART:20250309T020000
TZOFFSETFROM:-0600
TZOFFSETTO:-0500
RDATE:20260308T020000
RDATE:20270314T020000
END:DAYLIGHT
END:VTIMEZONE
BEGIN:VEVENT
UID:44f01c12-5ef7-4f94-97b9-a8554d8b109b
DTSTAMP:20260423T093453Z
DESCRIPTION:
DTSTART;TZID=America/Chicago:20260307T050000
DTEND;TZID=America/Chicago:20260307T050001
LOCATION:
SUMMARY:Garage Rented
END:VEVENT
END:VCALENDAR
