BEGIN:VCALENDAR
VERSION:2.0
PRODID:-//www.okeenehpg.org//NONSGML kigkonsult.se iCalcreator 2.30.10//
CALSCALE:GREGORIAN
METHOD:PUBLISH
UID:e46bb0ac-c776-4260-9405-e95ebea79e8e
X-WR-CALDESC:
X-WR-RELCALID:1840e159ef325b3851ef973846ce7b09
X-WR-TIMEZONE:America/Chicago
BEGIN:VTIMEZONE
TZID:America/Chicago
BEGIN:STANDARD
TZNAME:CST
DTSTART:20251102T020000
TZOFFSETFROM:-0500
TZOFFSETTO:-0600
RDATE:20261101T020000
END:STANDARD
BEGIN:DAYLIGHT
TZNAME:CDT
DTSTART:20250309T020000
TZOFFSETFROM:-0600
TZOFFSETTO:-0500
RDATE:20260308T020000
RDATE:20270314T020000
END:DAYLIGHT
END:VTIMEZONE
BEGIN:VEVENT
UID:a421c13d-9bf6-4372-a2d2-df2c7372bc92
DTSTAMP:20260425T143700Z
DESCRIPTION:
DTSTART;TZID=America/Chicago:20251217T050000
DTEND;TZID=America/Chicago:20251217T050001
LOCATION:
SUMMARY:Garage Rented
END:VEVENT
END:VCALENDAR
