BEGIN:VCALENDAR
VERSION:2.0
PRODID:-//www.okeenehpg.org//NONSGML kigkonsult.se iCalcreator 2.30.10//
CALSCALE:GREGORIAN
METHOD:PUBLISH
UID:7a3ed160-15db-486c-b8ae-6adb9da8d875
X-WR-CALDESC:
X-WR-RELCALID:9513e259a46e15ba21576db017b79e35
X-WR-TIMEZONE:America/Chicago
BEGIN:VTIMEZONE
TZID:America/Chicago
BEGIN:STANDARD
TZNAME:CST
DTSTART:20251102T020000
TZOFFSETFROM:-0500
TZOFFSETTO:-0600
RDATE:20261101T020000
END:STANDARD
BEGIN:DAYLIGHT
TZNAME:CDT
DTSTART:20250309T020000
TZOFFSETFROM:-0600
TZOFFSETTO:-0500
RDATE:20260308T020000
RDATE:20270314T020000
END:DAYLIGHT
END:VTIMEZONE
BEGIN:VEVENT
UID:2178e30b-c757-4ef2-9866-9a4bdefcce05
DTSTAMP:20260425T144029Z
DESCRIPTION:
DTSTART;TZID=America/Chicago:20251213T050000
DTEND;TZID=America/Chicago:20251213T050001
LOCATION:
SUMMARY:Garage Rented
END:VEVENT
END:VCALENDAR
