BEGIN:VCALENDAR
VERSION:2.0
PRODID:-//www.okeenehpg.org//NONSGML kigkonsult.se iCalcreator 2.30.10//
CALSCALE:GREGORIAN
METHOD:PUBLISH
UID:9ec12424-fb88-4c26-aff4-bc417b66e423
X-WR-CALDESC:
X-WR-RELCALID:0956a109dfc7280d7cce3204764a4493
X-WR-TIMEZONE:America/Chicago
BEGIN:VTIMEZONE
TZID:America/Chicago
BEGIN:STANDARD
TZNAME:CST
DTSTART:20251102T020000
TZOFFSETFROM:-0500
TZOFFSETTO:-0600
RDATE:20261101T020000
END:STANDARD
BEGIN:DAYLIGHT
TZNAME:CDT
DTSTART:20250309T020000
TZOFFSETFROM:-0600
TZOFFSETTO:-0500
RDATE:20260308T020000
RDATE:20270314T020000
END:DAYLIGHT
END:VTIMEZONE
BEGIN:VEVENT
UID:5f879765-ee5e-4bc0-b562-f14d3c1e9d84
DTSTAMP:20260425T161118Z
DESCRIPTION:
DTSTART;TZID=America/Chicago:20251129T173000
DTEND;TZID=America/Chicago:20251129T183000
LOCATION:
SUMMARY:Garage Rented
END:VEVENT
END:VCALENDAR
