BEGIN:VCALENDAR
VERSION:2.0
PRODID:-//www.okeenehpg.org//NONSGML kigkonsult.se iCalcreator 2.30.10//
CALSCALE:GREGORIAN
METHOD:PUBLISH
UID:87e175ba-395b-46ce-bffa-fd84fcf8a071
X-WR-CALDESC:
X-WR-RELCALID:5d8f9091d1655129eb279deec89e653e
X-WR-TIMEZONE:America/Chicago
BEGIN:VTIMEZONE
TZID:America/Chicago
BEGIN:STANDARD
TZNAME:CST
DTSTART:20251102T020000
TZOFFSETFROM:-0500
TZOFFSETTO:-0600
RDATE:20261101T020000
END:STANDARD
BEGIN:DAYLIGHT
TZNAME:CDT
DTSTART:20250309T020000
TZOFFSETFROM:-0600
TZOFFSETTO:-0500
RDATE:20260308T020000
RDATE:20270314T020000
END:DAYLIGHT
END:VTIMEZONE
BEGIN:VEVENT
UID:f5a56d71-ac20-416b-9058-68e4d17908ea
DTSTAMP:20260425T161245Z
DESCRIPTION:
DTSTART;TZID=America/Chicago:20251126T050000
DTEND;TZID=America/Chicago:20251126T050001
LOCATION:
SUMMARY:Garage Rented
END:VEVENT
END:VCALENDAR
