BEGIN:VCALENDAR
VERSION:2.0
PRODID:-//www.okeenehpg.org//NONSGML kigkonsult.se iCalcreator 2.30.10//
CALSCALE:GREGORIAN
METHOD:PUBLISH
UID:e380a377-4d8d-4749-898d-3798cbafc637
X-WR-CALDESC:
X-WR-RELCALID:33ae5b4c1d2cc5165cfe8be7cbdb5e7e
X-WR-TIMEZONE:America/Chicago
BEGIN:VTIMEZONE
TZID:America/Chicago
BEGIN:STANDARD
TZNAME:CST
DTSTART:20251102T020000
TZOFFSETFROM:-0500
TZOFFSETTO:-0600
RDATE:20261101T020000
END:STANDARD
BEGIN:DAYLIGHT
TZNAME:CDT
DTSTART:20250309T020000
TZOFFSETFROM:-0600
TZOFFSETTO:-0500
RDATE:20260308T020000
RDATE:20270314T020000
END:DAYLIGHT
END:VTIMEZONE
BEGIN:VEVENT
UID:017a50a1-0d53-40ba-9872-99e1d88f4062
DTSTAMP:20260425T160820Z
DESCRIPTION:
DTSTART;TZID=America/Chicago:20251123T050000
DTEND;TZID=America/Chicago:20251123T050001
LOCATION:
SUMMARY:Garage Rented
END:VEVENT
END:VCALENDAR
