BEGIN:VCALENDAR
VERSION:2.0
PRODID:-//www.okeenehpg.org//NONSGML kigkonsult.se iCalcreator 2.30.10//
CALSCALE:GREGORIAN
METHOD:PUBLISH
UID:f7f52c08-6322-40fb-928e-c4994e547f4e
X-WR-CALDESC:
X-WR-RELCALID:76a70f16895ba0e0e00c4c59bd018129
X-WR-TIMEZONE:America/Chicago
BEGIN:VTIMEZONE
TZID:America/Chicago
BEGIN:STANDARD
TZNAME:CST
DTSTART:20241103T020000
TZOFFSETFROM:-0500
TZOFFSETTO:-0600
RDATE:20251102T020000
RDATE:20261101T020000
END:STANDARD
BEGIN:DAYLIGHT
TZNAME:CDT
DTSTART:20250309T020000
TZOFFSETFROM:-0600
TZOFFSETTO:-0500
RDATE:20260308T020000
RDATE:20270314T020000
END:DAYLIGHT
END:VTIMEZONE
BEGIN:VEVENT
UID:045644a5-43f4-4bbc-b1f5-7af977bd617e
DTSTAMP:20260425T174023Z
DESCRIPTION:
DTSTART;TZID=America/Chicago:20251028T050000
DTEND;TZID=America/Chicago:20251028T050001
LOCATION:
SUMMARY:Entire building Rented
END:VEVENT
END:VCALENDAR
