BEGIN:VCALENDAR
VERSION:2.0
PRODID:-//www.okeenehpg.org//NONSGML kigkonsult.se iCalcreator 2.30.10//
CALSCALE:GREGORIAN
METHOD:PUBLISH
UID:e7550829-1099-40ba-924c-b31de0f879f3
X-WR-CALDESC:
X-WR-RELCALID:f15a4aa8c004ea8338258cfd2672d219
X-WR-TIMEZONE:America/Chicago
BEGIN:VTIMEZONE
TZID:America/Chicago
BEGIN:STANDARD
TZNAME:CST
DTSTART:20241103T020000
TZOFFSETFROM:-0500
TZOFFSETTO:-0600
RDATE:20251102T020000
RDATE:20261101T020000
END:STANDARD
BEGIN:DAYLIGHT
TZNAME:CDT
DTSTART:20250309T020000
TZOFFSETFROM:-0600
TZOFFSETTO:-0500
RDATE:20260308T020000
RDATE:20270314T020000
END:DAYLIGHT
END:VTIMEZONE
BEGIN:VEVENT
UID:433c3207-169f-4b3c-adb3-92a8d1cf40df
DTSTAMP:20260425T174052Z
DESCRIPTION:
DTSTART;TZID=America/Chicago:20251018T050000
DTEND;TZID=America/Chicago:20251018T050001
LOCATION:
SUMMARY:Entire building Rented
END:VEVENT
END:VCALENDAR
