BEGIN:VCALENDAR
VERSION:2.0
PRODID:-//www.okeenehpg.org//NONSGML kigkonsult.se iCalcreator 2.30.10//
CALSCALE:GREGORIAN
METHOD:PUBLISH
UID:c5c334ef-d600-4fc3-bdbd-b0634665162d
X-WR-CALDESC:
X-WR-RELCALID:eaa00868a98cbeadd79e9db7e78bc7c1
X-WR-TIMEZONE:America/Chicago
BEGIN:VTIMEZONE
TZID:America/Chicago
BEGIN:STANDARD
TZNAME:CST
DTSTART:20231105T020000
TZOFFSETFROM:-0500
TZOFFSETTO:-0600
RDATE:20241103T020000
RDATE:20251102T020000
END:STANDARD
BEGIN:DAYLIGHT
TZNAME:CDT
DTSTART:20240310T020000
TZOFFSETFROM:-0600
TZOFFSETTO:-0500
RDATE:20250309T020000
END:DAYLIGHT
END:VTIMEZONE
BEGIN:VEVENT
UID:cd481e7a-290d-472b-894b-e307d86da4e0
DTSTAMP:20260419T220704Z
DESCRIPTION:
DTSTART;TZID=America/Chicago:20240825T140000
DTEND;TZID=America/Chicago:20240825T150000
LOCATION:
SUMMARY:Garage Rented
END:VEVENT
END:VCALENDAR
