BEGIN:VCALENDAR
VERSION:2.0
PRODID:-//www.okeenehpg.org//NONSGML kigkonsult.se iCalcreator 2.30.10//
CALSCALE:GREGORIAN
METHOD:PUBLISH
UID:0fdd0a19-4d0d-45f1-b909-bf6785592672
X-WR-CALDESC:
X-WR-RELCALID:5ae0311a3fcba9e45d1cd7a766f91d1b
X-WR-TIMEZONE:America/Chicago
BEGIN:VTIMEZONE
TZID:America/Chicago
BEGIN:STANDARD
TZNAME:CST
DTSTART:20231105T020000
TZOFFSETFROM:-0500
TZOFFSETTO:-0600
RDATE:20241103T020000
END:STANDARD
BEGIN:DAYLIGHT
TZNAME:CDT
DTSTART:20230312T020000
TZOFFSETFROM:-0600
TZOFFSETTO:-0500
RDATE:20240310T020000
RDATE:20250309T020000
END:DAYLIGHT
END:VTIMEZONE
BEGIN:VEVENT
UID:60950d62-c13a-4a5c-9e97-bc4a91bc65e5
DTSTAMP:20260422T092603Z
DESCRIPTION:
DTSTART;TZID=America/Chicago:20240310T050000
DTEND;TZID=America/Chicago:20240310T050001
LOCATION:P O Box 162\, Okeene\, OK 73763-0162 US
SUMMARY:Building Rented
END:VEVENT
END:VCALENDAR
