BEGIN:VCALENDAR
VERSION:2.0
PRODID:-//www.okeenehpg.org//NONSGML kigkonsult.se iCalcreator 2.30.10//
CALSCALE:GREGORIAN
METHOD:PUBLISH
UID:78dd0b69-5ffb-400b-bfd7-4b9eb529806e
X-WR-CALDESC:
X-WR-RELCALID:84e55e7eca3ce724f033ecd64048c1a4
X-WR-TIMEZONE:America/Chicago
BEGIN:VTIMEZONE
TZID:America/Chicago
BEGIN:STANDARD
TZNAME:CST
DTSTART:20231105T020000
TZOFFSETFROM:-0500
TZOFFSETTO:-0600
RDATE:20241103T020000
END:STANDARD
BEGIN:DAYLIGHT
TZNAME:CDT
DTSTART:20230312T020000
TZOFFSETFROM:-0600
TZOFFSETTO:-0500
RDATE:20240310T020000
RDATE:20250309T020000
END:DAYLIGHT
END:VTIMEZONE
BEGIN:VEVENT
UID:7c19a120-810f-4bd2-8262-ce619167025b
DTSTAMP:20260424T074748Z
DESCRIPTION:
DTSTART;TZID=America/Chicago:20231123T000000
DTEND;TZID=America/Chicago:20231123T235900
LOCATION:
SUMMARY:Building Rented
END:VEVENT
END:VCALENDAR
