BEGIN:VCALENDAR
VERSION:2.0
PRODID:-//www.okeenehpg.org//NONSGML kigkonsult.se iCalcreator 2.30.10//
CALSCALE:GREGORIAN
METHOD:PUBLISH
UID:e9cfe64d-86bd-4e11-8212-23f9d930fb1c
X-WR-CALDESC:
X-WR-RELCALID:32323e752896a76ee21bfe4274d692a7
X-WR-TIMEZONE:America/Chicago
BEGIN:VTIMEZONE
TZID:America/Chicago
BEGIN:STANDARD
TZNAME:CST
DTSTART:20221106T020000
TZOFFSETFROM:-0500
TZOFFSETTO:-0600
RDATE:20231105T020000
RDATE:20241103T020000
END:STANDARD
BEGIN:DAYLIGHT
TZNAME:CDT
DTSTART:20230312T020000
TZOFFSETFROM:-0600
TZOFFSETTO:-0500
RDATE:20240310T020000
RDATE:20250309T020000
END:DAYLIGHT
END:VTIMEZONE
BEGIN:VEVENT
UID:593452ba-adb1-4b4e-bbbe-017a33b9e1ff
DTSTAMP:20260422T093604Z
DESCRIPTION:
DTSTART;TZID=America/Chicago:20231021T000000
DTEND;TZID=America/Chicago:20231021T235900
LOCATION:
SUMMARY:Building Rented
END:VEVENT
END:VCALENDAR
