BEGIN:VCALENDAR
VERSION:2.0
PRODID:-//www.okeenehpg.org//NONSGML kigkonsult.se iCalcreator 2.30.10//
CALSCALE:GREGORIAN
METHOD:PUBLISH
UID:578960c0-e439-454d-8654-c03738795125
X-WR-CALDESC:
X-WR-RELCALID:f0b1080dd9379b3e6bc03857dc1cc691
X-WR-TIMEZONE:America/Chicago
BEGIN:VTIMEZONE
TZID:America/Chicago
BEGIN:STANDARD
TZNAME:CST
DTSTART:20221106T020000
TZOFFSETFROM:-0500
TZOFFSETTO:-0600
RDATE:20231105T020000
RDATE:20241103T020000
END:STANDARD
BEGIN:DAYLIGHT
TZNAME:CDT
DTSTART:20230312T020000
TZOFFSETFROM:-0600
TZOFFSETTO:-0500
RDATE:20240310T020000
RDATE:20250309T020000
END:DAYLIGHT
END:VTIMEZONE
BEGIN:VEVENT
UID:9ba4c033-99c2-44b6-a577-0df50237562b
DTSTAMP:20260422T083220Z
DESCRIPTION:
DTSTART;TZID=America/Chicago:20231007T000000
DTEND;TZID=America/Chicago:20231007T235900
LOCATION:
SUMMARY:Building Rented
END:VEVENT
END:VCALENDAR
