BEGIN:VCALENDAR
VERSION:2.0
PRODID:-//www.okeenehpg.org//NONSGML kigkonsult.se iCalcreator 2.30.10//
CALSCALE:GREGORIAN
METHOD:PUBLISH
UID:3665c47f-1fe9-4b4e-8607-70d1fd74ed3b
X-WR-CALDESC:
X-WR-RELCALID:0e06689fcbb9face2b9de9f6d4b8392c
X-WR-TIMEZONE:America/Chicago
BEGIN:VTIMEZONE
TZID:America/Chicago
BEGIN:STANDARD
TZNAME:CST
DTSTART:20221106T020000
TZOFFSETFROM:-0500
TZOFFSETTO:-0600
RDATE:20231105T020000
RDATE:20241103T020000
END:STANDARD
BEGIN:DAYLIGHT
TZNAME:CDT
DTSTART:20230312T020000
TZOFFSETFROM:-0600
TZOFFSETTO:-0500
RDATE:20240310T020000
RDATE:20250309T020000
END:DAYLIGHT
END:VTIMEZONE
BEGIN:VEVENT
UID:d5b92055-ee20-48fe-a5c7-a601489015fa
DTSTAMP:20260424T092149Z
DESCRIPTION:
DTSTART;TZID=America/Chicago:20231006T000000
DTEND;TZID=America/Chicago:20231006T235900
LOCATION:
SUMMARY:Building Rented
END:VEVENT
END:VCALENDAR
