BEGIN:VCALENDAR
VERSION:2.0
PRODID:-//www.okeenehpg.org//NONSGML kigkonsult.se iCalcreator 2.30.10//
CALSCALE:GREGORIAN
METHOD:PUBLISH
UID:ef7a62f0-c8c6-49c0-a1cc-8945ecdaca42
X-WR-CALDESC:
X-WR-RELCALID:64c765bd1cb0b4ca35e7d82a62b49741
X-WR-TIMEZONE:America/Chicago
BEGIN:VTIMEZONE
TZID:America/Chicago
BEGIN:STANDARD
TZNAME:CST
DTSTART:20221106T020000
TZOFFSETFROM:-0500
TZOFFSETTO:-0600
RDATE:20231105T020000
RDATE:20241103T020000
END:STANDARD
BEGIN:DAYLIGHT
TZNAME:CDT
DTSTART:20230312T020000
TZOFFSETFROM:-0600
TZOFFSETTO:-0500
RDATE:20240310T020000
END:DAYLIGHT
END:VTIMEZONE
BEGIN:VEVENT
UID:80ab1dc4-7f34-47aa-a6c1-832f1a374138
DTSTAMP:20260424T083743Z
DESCRIPTION:
DTSTART;TZID=America/Chicago:20230820T000000
DTEND;TZID=America/Chicago:20230820T235900
LOCATION:
SUMMARY:Building Rented
END:VEVENT
END:VCALENDAR
