BEGIN:VCALENDAR
VERSION:2.0
PRODID:-//www.okeenehpg.org//NONSGML kigkonsult.se iCalcreator 2.30.10//
CALSCALE:GREGORIAN
METHOD:PUBLISH
UID:02aabad3-5cf9-4db4-a918-08807509ebe2
X-WR-CALDESC:
X-WR-RELCALID:c96d8ad83a43f66f1cce559f8fde8e4c
X-WR-TIMEZONE:America/Chicago
BEGIN:VTIMEZONE
TZID:America/Chicago
BEGIN:STANDARD
TZNAME:CST
DTSTART:20221106T020000
TZOFFSETFROM:-0500
TZOFFSETTO:-0600
RDATE:20231105T020000
RDATE:20241103T020000
END:STANDARD
BEGIN:DAYLIGHT
TZNAME:CDT
DTSTART:20230312T020000
TZOFFSETFROM:-0600
TZOFFSETTO:-0500
RDATE:20240310T020000
END:DAYLIGHT
END:VTIMEZONE
BEGIN:VEVENT
UID:4942b3d5-7df2-4e30-9603-8a866c070116
DTSTAMP:20260422T092603Z
DESCRIPTION:
DTSTART;TZID=America/Chicago:20230623T000000
DTEND;TZID=America/Chicago:20230623T235900
LOCATION:
SUMMARY:Building Rented
END:VEVENT
END:VCALENDAR
